BEGIN:VCALENDAR
VERSION:2.0
PRODID:-//eventon.com NONSGML v1.0//EN
CALSCALE:GREGORIAN
METHOD:PUBLISH
BEGIN:VEVENT
UID:69ec94881545b
DTSTAMP:20260425T121640
DTSTART:20240715T060000Z
DTEND:20240718T030000Z
TZID:Europe/Paris
LOCATION:Laboratoire LCIS 50 rue Barthélémy de Laffemas
SUMMARY:ARTISAN Summer School – ARTificial Intelligence in Secure ApplicatioNs
DESCRIPTION: programme-ARTISAN-2024Télécharger Registration-------- Deadline for registration: 10th of July 2024 Early bird\,  before the 1st of July&nbsp;&nbsp; &nbsp;* €350 for academic participants&nbsp;&nbsp; &nbsp;* €500 for industrial participants After the 1st of July&nbsp;&nbsp; &nbsp;* €400 for academic participants&nbsp;&nbsp; &nbsp;* €550 for industrial participants Registration fees cover lunches\,  coffee breaks\,  welcome cocktail and[..]\nhttps://lcis.fr/events/artisan-summer-school-artificial-intelligence-in-secure-applications
URL:https://lcis.fr/events/artisan-summer-school-artificial-intelligence-in-secure-applications
END:VEVENT
END:VCALENDAR